View In:
ArcGIS JavaScript
ArcGIS Online Map Viewer
ArcGIS Earth
Service Description: g2202_preferred/prd_risk_mosaic_db
Name: g2202_preferred/prd_risk_mosaic_db
Description:
Single Fused Map Cache: false
Extent:
XMin: 19.5749
YMin: 34.807500241999996
XMax: 28.24076879
YMax: 41.7454
Spatial Reference: 4326
(4326)
LatestVCSWkid(0)
Initial Extent:
XMin: 19.5749
YMin: 34.807500241999996
XMax: 28.24076879
YMax: 41.7454
Spatial Reference: 4326
(4326)
LatestVCSWkid(0)
Full Extent:
XMin: 19.5749
YMin: 34.807500241999996
XMax: 28.24076879
YMax: 41.7454
Spatial Reference: 4326
(4326)
LatestVCSWkid(0)
Time Info:
Start Time Field: stdtime
End Time Field: stdtime_max
Time Extent:
[2023/07/28 00:00:00 UTC, 2023/07/29 23:59:58 UTC]
Time Reference:
N/A
Pixel Size X: 0.005204726000000001
Pixel Size Y: 0.005204726000000001
Band Count: 1
Pixel Type: F64
RasterFunction Infos: {"rasterFunctionInfos": [{
"name": "None",
"description": "",
"help": ""
}]}
Mensuration Capabilities: Basic
Inspection Capabilities:
Has Histograms: true
Has Colormap: false
Has Multi Dimensions : false
Rendering Rule:
Min Scale: 0
Max Scale: 0
Resampling: false
Copyright Text:
Edit Fields Info:
- Creation Date Field: created_date
- Creator Field: created_user
- Edit Date Field: last_edited_date
- Editor Field: last_edited_user
Ownership Based Access Control:
- Allow Others to Update: true
- Allow Others to Delete: true
Service Data Type: esriImageServiceDataTypeGeneric
Min Values: 0
Max Values: 5
Mean Values: 0.9597606608859482
Standard Deviation Values: 1.8794053530898607
Object ID Field: objectid
Fields:
-
objectid
(
type: esriFieldTypeOID, alias: objectid, editable: false, nullable: false
)
-
name
(
type: esriFieldTypeString, alias: name, editable: true, nullable: true, length: 200
)
-
minps
(
type: esriFieldTypeDouble, alias: minps, editable: true, nullable: true
)
-
maxps
(
type: esriFieldTypeDouble, alias: maxps, editable: true, nullable: true
)
-
lowps
(
type: esriFieldTypeDouble, alias: lowps, editable: true, nullable: true
)
-
highps
(
type: esriFieldTypeDouble, alias: highps, editable: true, nullable: true
)
-
category
(
type: esriFieldTypeInteger, alias: category, editable: false, nullable: true
, Coded Values:
[0: Unknown]
, [1: Primary]
, [2: Overview]
, ...6 more...
)
-
tag
(
type: esriFieldTypeString, alias: tag, editable: true, nullable: true, length: 100
)
-
groupname
(
type: esriFieldTypeString, alias: groupname, editable: true, nullable: true, length: 100
)
-
productname
(
type: esriFieldTypeString, alias: productname, editable: true, nullable: true, length: 100
)
-
centerx
(
type: esriFieldTypeDouble, alias: centerx, editable: true, nullable: true
)
-
centery
(
type: esriFieldTypeDouble, alias: centery, editable: true, nullable: true
)
-
zorder
(
type: esriFieldTypeInteger, alias: zorder, editable: true, nullable: true
)
-
shape
(
type: esriFieldTypeGeometry, alias: shape, editable: true, nullable: true
)
-
stdtime
(
type: esriFieldTypeDate, alias: Standard Time, editable: true, nullable: true, length: 8
)
-
stdtime_max
(
type: esriFieldTypeDate, alias: Standard Time Maximum, editable: true, nullable: true, length: 8
)
-
created_user
(
type: esriFieldTypeString, alias: created_user, editable: false, nullable: true, length: 255
)
-
created_date
(
type: esriFieldTypeDate, alias: created_date, editable: false, nullable: true, length: 8
)
-
last_edited_user
(
type: esriFieldTypeString, alias: last_edited_user, editable: false, nullable: true, length: 255
)
-
last_edited_date
(
type: esriFieldTypeDate, alias: last_edited_date, editable: false, nullable: true, length: 8
)
-
st_area(shape)
(
type: esriFieldTypeDouble, alias: st_area(shape), editable: false, nullable: true
)
-
st_perimeter(shape)
(
type: esriFieldTypeDouble, alias: st_perimeter(shape), editable: false, nullable: true
)
Default Mosaic Method: Northwest
Allowed Mosaic Methods: NorthWest,Center,LockRaster,ByAttribute,Nadir,Viewpoint,Seamline,None
SortField:
SortValue: null
Mosaic Operator: First
Default Compression Quality: 75
Default Resampling Method: Bilinear
Max Record Count: 1000
Max Image Height: 4100
Max Image Width: 15000
Max Download Image Count: 100
Max Mosaic Image Count: 1000
Allow Raster Function: true
Allow Copy: true
Allow Analysis: true
Allow Compute TiePoints: false
Supports Statistics: true
Supports Advanced Queries: true
Use StandardizedQueries: true
Raster Type Infos:
Name: Raster Dataset
Description: Supports all ArcGIS Raster Datasets
Help:
Has Raster Attribute Table: false
Edit Fields Info: {"creationDateField":"created_date","creatorField":"created_user","editDateField":"last_edited_date","editorField":"last_edited_user"}
Ownership Based AccessControl For Rasters: {"allowOthersToDelete":true,"allowOthersToUpdate":true}
Child Resources:
Info
Histograms
Statistics
Key Properties
Legend
Raster Function Infos
Supported Operations:
Export Image
Query
Identify
Download Rasters
Get Image Url
Add Rasters
Update Raster
Delete Rasters
Measure
Compute Histograms
Compute Statistics Histograms
Get Samples
Compute Class Statistics
Query GPS Info
Find Images
Image to Map
Map to Image
Measure from Image
Image to Map Multiray
Query Boundary
Compute Pixel Location
Compute Angles
Validate
Project