{
 "currentVersion": 11.5,
 "serviceDescription": "g2202_preferred/prd_risk_mosaic_db",
 "serviceItemId": "390ef4a88c774c34add61e6d07a20bed",
 "name": "g2202_preferred/prd_risk_mosaic_db",
 "description": "",
 "extent": {
  "xmin": 19.5749,
  "ymin": 34.807500241999996,
  "xmax": 28.24076879,
  "ymax": 41.7454,
  "spatialReference": {
   "wkid": 4326,
   "latestWkid": 4326
  }
 },
 "initialExtent": {
  "xmin": 19.5749,
  "ymin": 34.807500241999996,
  "xmax": 28.24076879,
  "ymax": 41.7454,
  "spatialReference": {
   "wkid": 4326,
   "latestWkid": 4326
  }
 },
 "fullExtent": {
  "xmin": 19.5749,
  "ymin": 34.807500241999996,
  "xmax": 28.24076879,
  "ymax": 41.7454,
  "spatialReference": {
   "wkid": 4326,
   "latestWkid": 4326
  }
 },
 "sortableFields": "minps,maxps,lowps,highps,centerx,centery,zorder,st_area(shape),st_perimeter(shape),stdtime,stdtime_max,created_date,last_edited_date",
 "bandCount": 1,
 "pixelType": "F64",
 "minValues": [
  0
 ],
 "maxValues": [
  5
 ],
 "meanValues": [
  0.9597606608859482
 ],
 "stdvValues": [
  1.8794053530898607
 ],
 "serviceProperties": "NorthWest<\/MosaicMethod>First<\/MosaicOperator>true<\/SortAscending><\/LockImageID>name<\/TileOrderField>0<\/TileOrderBase>600.000000<\/AvgImageSpacingX>300.000000<\/AvgImageSpacingY>0.0<\/ViewPointX>0.0<\/ViewPointY>0.0<\/ViewPointDefShiftX>0.0<\/ViewPointDefShiftY>LZ77<\/CompressionMethod>75<\/CompressionQuality>0.010000<\/CompressionTolerance>Bilinear<\/SamplingMethod><\/ImageServiceProperties><\/ImageServer>",
 "allowedFields": "name,minps,maxps,lowps,highps,tag,groupname,productname,centerx,centery,zorder,st_area(shape),st_perimeter(shape),stdtime,stdtime_max,created_user,created_date,last_edited_user,last_edited_date",
 "hasMultidimensions": false,
 "timeInfo": {
  "startTimeField": "stdtime",
  "endTimeField": "stdtime_max",
  "timeExtent": [
   1690502400000,
   1690675198000
  ],
  "timeReference": null
 },
 "pixelSizeX": 0.005204726000000001,
 "pixelSizeY": 0.005204726000000001,
 "meanPixelSize": 579.3874480385116,
 "datasetFormat": "AMD",
 "uncompressedSize": 17755560,
 "blockWidth": 2048,
 "blockHeight": 256,
 "compressionType": "None",
 "bandNames": [
  "Band_1"
 ],
 "allowCopy": true,
 "allowAnalysis": true,
 "itemAccess": false,
 "inspectionCapabilities": "",
 "minPixelSize": 0,
 "maxPixelSize": 0,
 "copyrightText": "",
 "serviceDataType": "esriImageServiceDataTypeGeneric",
 "serviceSourceType": "esriImageServiceSourceTypeMosaicDataset",
 "objectIdField": "objectid",
 "fields": [
  {
   "name": "objectid",
   "type": "esriFieldTypeOID",
   "alias": "objectid",
   "domain": null,
   "editable": false,
   "nullable": false
  },
  {
   "name": "name",
   "type": "esriFieldTypeString",
   "alias": "name",
   "domain": null,
   "editable": true,
   "nullable": true,
   "length": 200
  },
  {
   "name": "minps",
   "type": "esriFieldTypeDouble",
   "alias": "minps",
   "domain": null,
   "editable": true,
   "nullable": true
  },
  {
   "name": "maxps",
   "type": "esriFieldTypeDouble",
   "alias": "maxps",
   "domain": null,
   "editable": true,
   "nullable": true
  },
  {
   "name": "lowps",
   "type": "esriFieldTypeDouble",
   "alias": "lowps",
   "domain": null,
   "editable": true,
   "nullable": true
  },
  {
   "name": "highps",
   "type": "esriFieldTypeDouble",
   "alias": "highps",
   "domain": null,
   "editable": true,
   "nullable": true
  },
  {
   "name": "category",
   "type": "esriFieldTypeInteger",
   "alias": "category",
   "domain": {
    "type": "codedValue",
    "name": "MosaicCatalogItemCategoryDomain",
    "description": "Catalog item categories.",
    "codedValues": [
     {
      "name": "Unknown",
      "code": 0
     },
     {
      "name": "Primary",
      "code": 1
     },
     {
      "name": "Overview",
      "code": 2
     },
     {
      "name": "Unprocessed Overview",
      "code": 3
     },
     {
      "name": "Partial Overview",
      "code": 4
     },
     {
      "name": "Inactive",
      "code": 5
     },
     {
      "name": "Uploaded",
      "code": 253
     },
     {
      "name": "Incomplete",
      "code": 254
     },
     {
      "name": "Custom",
      "code": 255
     }
    ],
    "mergePolicy": "esriMPTDefaultValue",
    "splitPolicy": "esriSPTDefaultValue"
   },
   "editable": false,
   "nullable": true
  },
  {
   "name": "tag",
   "type": "esriFieldTypeString",
   "alias": "tag",
   "domain": null,
   "editable": true,
   "nullable": true,
   "length": 100
  },
  {
   "name": "groupname",
   "type": "esriFieldTypeString",
   "alias": "groupname",
   "domain": null,
   "editable": true,
   "nullable": true,
   "length": 100
  },
  {
   "name": "productname",
   "type": "esriFieldTypeString",
   "alias": "productname",
   "domain": null,
   "editable": true,
   "nullable": true,
   "length": 100
  },
  {
   "name": "centerx",
   "type": "esriFieldTypeDouble",
   "alias": "centerx",
   "domain": null,
   "editable": true,
   "nullable": true
  },
  {
   "name": "centery",
   "type": "esriFieldTypeDouble",
   "alias": "centery",
   "domain": null,
   "editable": true,
   "nullable": true
  },
  {
   "name": "zorder",
   "type": "esriFieldTypeInteger",
   "alias": "zorder",
   "domain": null,
   "editable": true,
   "nullable": true
  },
  {
   "name": "shape",
   "type": "esriFieldTypeGeometry",
   "alias": "shape",
   "domain": null,
   "editable": true,
   "nullable": true
  },
  {
   "name": "stdtime",
   "type": "esriFieldTypeDate",
   "alias": "Standard Time",
   "domain": null,
   "editable": true,
   "nullable": true,
   "length": 8
  },
  {
   "name": "stdtime_max",
   "type": "esriFieldTypeDate",
   "alias": "Standard Time Maximum",
   "domain": null,
   "editable": true,
   "nullable": true,
   "length": 8
  },
  {
   "name": "created_user",
   "type": "esriFieldTypeString",
   "alias": "created_user",
   "domain": null,
   "editable": false,
   "nullable": true,
   "length": 255
  },
  {
   "name": "created_date",
   "type": "esriFieldTypeDate",
   "alias": "created_date",
   "domain": null,
   "editable": false,
   "nullable": true,
   "length": 8
  },
  {
   "name": "last_edited_user",
   "type": "esriFieldTypeString",
   "alias": "last_edited_user",
   "domain": null,
   "editable": false,
   "nullable": true,
   "length": 255
  },
  {
   "name": "last_edited_date",
   "type": "esriFieldTypeDate",
   "alias": "last_edited_date",
   "domain": null,
   "editable": false,
   "nullable": true,
   "length": 8
  },
  {
   "name": "st_area(shape)",
   "type": "esriFieldTypeDouble",
   "alias": "st_area(shape)",
   "domain": null,
   "editable": false,
   "nullable": true
  },
  {
   "name": "st_perimeter(shape)",
   "type": "esriFieldTypeDouble",
   "alias": "st_perimeter(shape)",
   "domain": null,
   "editable": false,
   "nullable": true
  }
 ],
 "capabilities": "Catalog,Edit,Mensuration,Pixels,Download,Image,Metadata",
 "defaultMosaicMethod": "Northwest",
 "allowedMosaicMethods": "NorthWest,Center,LockRaster,ByAttribute,Nadir,Viewpoint,Seamline,None",
 "sortField": "",
 "sortValue": null,
 "sortAscending": true,
 "mosaicOperator": "First",
 "maxDownloadSizeLimit": 20480,
 "defaultCompressionQuality": 75,
 "defaultResamplingMethod": "Bilinear",
 "maxImageHeight": 4100,
 "maxImageWidth": 15000,
 "maxRecordCount": 1000,
 "maxDownloadImageCount": 100,
 "maxMosaicImageCount": 1000,
 "allowRasterFunction": true,
 "rasterFunctionInfos": [
  {
   "name": "None",
   "description": "",
   "help": ""
  }
 ],
 "rasterTypeInfos": [
  {
   "name": "Raster Dataset",
   "description": "Supports all ArcGIS Raster Datasets",
   "help": ""
  }
 ],
 "mensurationCapabilities": "Basic",
 "hasHistograms": true,
 "hasColormap": false,
 "hasRasterAttributeTable": false,
 "minScale": 0,
 "maxScale": 0,
 "exportTilesAllowed": false,
 "supportsStatistics": true,
 "supportsAdvancedQueries": true,
 "editFieldsInfo": {
  "creationDateField": "created_date",
  "creatorField": "created_user",
  "editDateField": "last_edited_date",
  "editorField": "last_edited_user"
 },
 "ownershipBasedAccessControlForRasters": {
  "allowOthersToDelete": true,
  "allowOthersToUpdate": true
 },
 "allowComputeTiePoints": false,
 "useStandardizedQueries": true,
 "advancedQueryCapabilities": {
  "useStandardizedQueries": true,
  "supportsStatistics": true,
  "supportsOrderBy": true,
  "supportsDistinct": true,
  "supportsPagination": true
 },
 "spatialReference": {
  "wkid": 4326,
  "latestWkid": 4326
 },
 "resampling": false
}
