View In:
ArcGIS JavaScript
ArcGIS Online Map Viewer
ArcGIS Earth
Service Description: g2202_preferred/WUI
Name: g2202_preferred/WUI
Description:
Single Fused Map Cache: false
Extent:
XMin: 404973.0494497849
YMin: 4187865.3939168775
XMax: 548456.0241027942
YMax: 4303290.054507149
Spatial Reference: 2100
(2100)
VCSWkid(5773)
LatestVCSWkid(5773)
Initial Extent:
XMin: 404973.0494497849
YMin: 4187865.3939168775
XMax: 548456.0241027942
YMax: 4303290.054507149
Spatial Reference: 2100
(2100)
VCSWkid(5773)
LatestVCSWkid(5773)
Full Extent:
XMin: 404973.0494497849
YMin: 4187865.3939168775
XMax: 548456.0241027942
YMax: 4303290.054507149
Spatial Reference: 2100
(2100)
VCSWkid(5773)
LatestVCSWkid(5773)
Pixel Size X: 10.141572989327772
Pixel Size Y: 10.093097288411327
Band Count: 1
Pixel Type: U16
RasterFunction Infos: {"rasterFunctionInfos": [{
"name": "None",
"description": "",
"help": ""
}]}
Mensuration Capabilities: Basic
Inspection Capabilities:
Has Histograms: false
Has Colormap: false
Has Multi Dimensions : false
Rendering Rule:
Min Scale: 0
Max Scale: 0
Copyright Text:
Service Data Type: esriImageServiceDataTypeThematic
Min Values: 0
Max Values: 4095
Mean Values: 0
Standard Deviation Values: -1
Object ID Field:
Fields:
None
Default Mosaic Method: Center
Allowed Mosaic Methods:
SortField:
SortValue: null
Mosaic Operator: First
Default Compression Quality: 75
Default Resampling Method: Bilinear
Max Record Count: null
Max Image Height: 4100
Max Image Width: 15000
Max Download Image Count: null
Max Mosaic Image Count: null
Allow Raster Function: true
Allow Copy: true
Allow Analysis: true
Allow Compute TiePoints: false
Supports Statistics: false
Supports Advanced Queries: false
Use StandardizedQueries: true
Raster Type Infos:
Name: Raster Dataset
Description: Supports all ArcGIS Raster Datasets
Help:
Has Raster Attribute Table: true
Edit Fields Info: null
Ownership Based AccessControl For Rasters: null
Child Resources:
Info
Raster Attribute Table
Statistics
Key Properties
Legend
Raster Function Infos
Supported Operations:
Export Image
Identify
Measure
Compute Histograms
Compute Statistics Histograms
Get Samples
Compute Class Statistics
Query Boundary
Compute Pixel Location
Compute Angles
Validate
Project