View In:
ArcGIS JavaScript
ArcGIS Online Map Viewer
ArcGIS Earth
Service Description: g2202_preferred/PRD_RISK_MOSAIC_crf
Name: g2202_preferred/PRD_RISK_MOSAIC_crf
Description:
Single Fused Map Cache: false
Extent:
XMin: 19.522852738184547
YMin: 34.8075
XMax: 28.24076909227307
YMax: 41.7454
Spatial Reference: 4326
(4326)
LatestVCSWkid(0)
Initial Extent:
XMin: 19.522852738184547
YMin: 34.8075
XMax: 28.24076909227307
YMax: 41.7454
Spatial Reference: 4326
(4326)
LatestVCSWkid(0)
Full Extent:
XMin: 19.522852738184547
YMin: 34.8075
XMax: 28.24076909227307
YMax: 41.7454
Spatial Reference: 4326
(4326)
LatestVCSWkid(0)
Time Info:
Start Time Field: StdTime
End Time Field: StdTime_Max
Time Extent:
[2023/07/26 00:00:00 UTC, 2023/11/21 23:59:58 UTC]
Time Reference:
N/A
Pixel Size X: 0.005204726181545387
Pixel Size Y: 0.005204726181545385
Band Count: 1
Pixel Type: U8
RasterFunction Infos: {"rasterFunctionInfos": [{
"name": "None",
"description": "Make a Raster or Raster Dataset into a Function Raster Dataset.",
"help": ""
}]}
Mensuration Capabilities: Basic
Inspection Capabilities:
Has Histograms: true
Has Colormap: false
Has Multi Dimensions : true
Rendering Rule:
Min Scale: 0
Max Scale: 0
Resampling: false
Copyright Text:
Service Data Type: esriImageServiceDataTypeGeneric
Min Values: 0
Max Values: 5
Mean Values: 0.4289185637688521
Standard Deviation Values: 1.0371179016855074
Object ID Field:
Fields:
None
Default Mosaic Method: Center
Allowed Mosaic Methods:
SortField:
SortValue: null
Mosaic Operator: First
Default Compression Quality: 10000
Default Resampling Method: Bilinear
Max Record Count: null
Max Image Height: 4100
Max Image Width: 15000
Max Download Image Count: null
Max Mosaic Image Count: null
Allow Raster Function: true
Allow Copy: true
Allow Analysis: true
Allow Compute TiePoints: false
Supports Statistics: false
Supports Advanced Queries: false
Use StandardizedQueries: true
Raster Type Infos:
Name: Raster Dataset
Description: Supports all ArcGIS Raster Datasets
Help:
Has Raster Attribute Table: true
Edit Fields Info: null
Ownership Based AccessControl For Rasters: null
Child Resources:
Info
Raster Attribute Table
Histograms
Statistics
Key Properties
Legend
Raster Function Infos
Multidimensional Info
Slices
Supported Operations:
Export Image
Identify
Add Rasters
Update Raster
Delete Rasters
Measure
Compute Histograms
Compute Statistics Histograms
Get Samples
Compute Class Statistics
Query Boundary
Compute Pixel Location
Compute Angles
Validate
Project