View In:
ArcGIS JavaScript
ArcGIS Online Map Viewer
ArcGIS Earth
Service Description: g2202_preferred/INP_METEO_HIST_ERAS_MOSAIC
Name: g2202_preferred/INP_METEO_HIST_ERAS_MOSAIC
Description:
Single Fused Map Cache: false
Extent:
XMin: 18.363389907000055
YMin: 33.86381873799995
XMax: 28.863389907000204
YMax: 42.16381873800007
Spatial Reference: 4326
(4326)
LatestVCSWkid(0)
Initial Extent:
XMin: 18.363389907000055
YMin: 33.86381873799995
XMax: 28.863389907000204
YMax: 42.16381873800007
Spatial Reference: 4326
(4326)
LatestVCSWkid(0)
Full Extent:
XMin: 18.363389907000055
YMin: 33.86381873799995
XMax: 28.863389907000204
YMax: 42.16381873800007
Spatial Reference: 4326
(4326)
LatestVCSWkid(0)
Time Info:
Start Time Field: StdTime
End Time Field: StdTime_Max
Time Extent:
[2010/02/28 00:00:00 UTC, 2025/12/20 23:59:58 UTC]
Time Reference:
N/A
Pixel Size X: 0.10000000000000142
Pixel Size Y: 0.10000000000000142
Band Count: 1
Pixel Type: F32
RasterFunction Infos: {"rasterFunctionInfos": [
{
"name": "dir_max",
"description": "A raster function template.",
"help": ""
},
{
"name": "None",
"description": "Make a Raster or Raster Dataset into a Function Raster Dataset.",
"help": ""
},
{
"name": "dom_dir",
"description": "A raster function template.",
"help": ""
},
{
"name": "dom_vel",
"description": "A raster function template.",
"help": ""
},
{
"name": "max_dew_temp",
"description": "A raster function template.",
"help": ""
},
{
"name": "max_temp",
"description": "A raster function template.",
"help": ""
},
{
"name": "mean_dew_temp",
"description": "A raster function template.",
"help": ""
},
{
"name": "mean_temp",
"description": "A raster function template.",
"help": ""
},
{
"name": "min_dew_temp",
"description": "A raster function template.",
"help": ""
},
{
"name": "min_temp",
"description": "A raster function template.",
"help": ""
},
{
"name": "rain_7_days",
"description": "A raster function template.",
"help": ""
},
{
"name": "res_max",
"description": "A raster function template.",
"help": ""
}
]}
Mensuration Capabilities:
Inspection Capabilities:
Has Histograms: false
Has Colormap: false
Has Multi Dimensions : true
Rendering Rule:
Min Scale: 0
Max Scale: 0
Resampling: false
Copyright Text:
Edit Fields Info:
- Creation Date Field: created_date
- Creator Field: created_user
- Edit Date Field: last_edited_date
- Editor Field: last_edited_user
Ownership Based Access Control:
- Allow Others to Update: false
- Allow Others to Delete: false
Service Data Type: esriImageServiceDataTypeScientific
Min Values: 0
Max Values: 298.3740234375
Mean Values: 0
Standard Deviation Values: 0
Object ID Field: OBJECTID
Fields:
-
OBJECTID
(
type: esriFieldTypeOID, alias: OBJECTID, editable: false, nullable: false
)
-
Shape
(
type: esriFieldTypeGeometry, alias: Shape, editable: true, nullable: true
)
-
Name
(
type: esriFieldTypeString, alias: Name, editable: true, nullable: true, length: 200
)
-
MinPS
(
type: esriFieldTypeDouble, alias: MinPS, editable: true, nullable: true
)
-
MaxPS
(
type: esriFieldTypeDouble, alias: MaxPS, editable: true, nullable: true
)
-
LowPS
(
type: esriFieldTypeDouble, alias: LowPS, editable: true, nullable: true
)
-
HighPS
(
type: esriFieldTypeDouble, alias: HighPS, editable: true, nullable: true
)
-
Category
(
type: esriFieldTypeInteger, alias: Category, editable: false, nullable: true
, Coded Values:
[0: Unknown]
, [1: Primary]
, [2: Overview]
, ...6 more...
)
-
Tag
(
type: esriFieldTypeString, alias: Tag, editable: true, nullable: true, length: 100
)
-
GroupName
(
type: esriFieldTypeString, alias: GroupName, editable: true, nullable: true, length: 100
)
-
ProductName
(
type: esriFieldTypeString, alias: ProductName, editable: true, nullable: true, length: 100
)
-
CenterX
(
type: esriFieldTypeDouble, alias: CenterX, editable: true, nullable: true
)
-
CenterY
(
type: esriFieldTypeDouble, alias: CenterY, editable: true, nullable: true
)
-
ZOrder
(
type: esriFieldTypeInteger, alias: ZOrder, editable: true, nullable: true
)
-
Shape_Length
(
type: esriFieldTypeDouble, alias: Shape_Length, editable: false, nullable: true
)
-
Shape_Area
(
type: esriFieldTypeDouble, alias: Shape_Area, editable: false, nullable: true
)
-
Variable
(
type: esriFieldTypeString, alias: Variable, editable: true, nullable: true, length: 50
)
-
Dimensions
(
type: esriFieldTypeString, alias: Dimensions, editable: true, nullable: true, length: 50
)
-
StdTime
(
type: esriFieldTypeDate, alias: Standard Time, editable: true, nullable: true, length: 8
)
-
StdTime_Max
(
type: esriFieldTypeDate, alias: Standard Time Maximum, editable: true, nullable: true, length: 8
)
Default Mosaic Method: None
Allowed Mosaic Methods: None,NorthWest,Center,LockRaster,ByAttribute,Nadir,Viewpoint,Seamline
SortField: N/A
SortValue: N/A
Mosaic Operator: Last
Default Compression Quality: 75
Default Resampling Method: Bicubic
Max Record Count: 1000
Max Image Height: 4100
Max Image Width: 15000
Max Download Image Count: 20
Max Mosaic Image Count: 5000
Allow Raster Function: true
Allow Copy: true
Allow Analysis: true
Allow Compute TiePoints: false
Supports Statistics: true
Supports Advanced Queries: true
Use StandardizedQueries: true
Raster Type Infos:
Name: WCS
Description: Allows a WCS (Web Coverage Service) coverage to be consumed as a raster dataset.
Help:
Name: Image Service
Description: Supports ArcGIS image service
Help:
Name: WMS
Description: Allows a WMS (Web Map Service) layer to be consumed as a raster dataset.
Help:
Name: Map Service
Description: Supports ArcGIS map service
Help:
Name: NetCDF
Description: Supports netCDF data.
Help:
Name: Raster Dataset
Description: Supports all ArcGIS Raster Datasets
Help:
Name: DTED
Description: Supports DTED Level 0, DTED Level 1, DTED Level 2, SRTM DTED Level 1, and SRTM DTED Level 2.
Help:
Name: NITF
Description: NITF Products
Help:
Has Raster Attribute Table: false
Edit Fields Info: {"creationDateField":"created_date","creatorField":"created_user","editDateField":"last_edited_date","editorField":"last_edited_user"}
Ownership Based AccessControl For Rasters: {"allowOthersToDelete":false,"allowOthersToUpdate":false}
Child Resources:
Info
Statistics
Key Properties
Legend
Raster Function Infos
Multidimensional Info
Slices
Supported Operations:
Export Image
Query
Identify
Download Rasters
Get Image Url
Add Rasters
Update Raster
Delete Rasters
Compute Histograms
Compute Statistics Histograms
Get Samples
Compute Class Statistics
Query GPS Info
Find Images
Image to Map
Map to Image
Measure from Image
Image to Map Multiray
Query Boundary
Compute Pixel Location
Compute Angles
Validate
Project