{
 "currentVersion": 11.5,
 "serviceDescription": "g2202_preferred/INP_MODIS_VEG_MOSAIC",
 "serviceItemId": "748ce98680784d7db5778e63ec182673",
 "name": "g2202_preferred/INP_MODIS_VEG_MOSAIC",
 "description": "",
 "extent": {
  "xmin": 19.46,
  "ymin": 34.44010374379793,
  "xmax": 28.29,
  "ymax": 41.9,
  "spatialReference": {
   "wkid": 4326,
   "latestWkid": 4326
  }
 },
 "initialExtent": {
  "xmin": 19.46,
  "ymin": 34.44010374379793,
  "xmax": 28.29,
  "ymax": 41.9,
  "spatialReference": {
   "wkid": 4326,
   "latestWkid": 4326
  }
 },
 "fullExtent": {
  "xmin": 19.46,
  "ymin": 34.44010374379793,
  "xmax": 28.29,
  "ymax": 41.9,
  "spatialReference": {
   "wkid": 4326,
   "latestWkid": 4326
  }
 },
 "sortableFields": "MinPS,MaxPS,LowPS,HighPS,CenterX,CenterY,ZOrder,Shape_Length,Shape_Area,band,StdTime,StdTime_Max,time",
 "bandCount": 1,
 "pixelType": "S16",
 "minValues": [
  -2000
 ],
 "maxValues": [
  9994
 ],
 "meanValues": [
  0
 ],
 "stdvValues": [
  0
 ],
 "serviceProperties": "ByAttribute<\/MosaicMethod>Last<\/MosaicOperator>false<\/SortAscending><\/LockImageID>StdTime<\/TileOrderField>2000/01/01<\/TileOrderBase>600.000000<\/AvgImageSpacingX>300.000000<\/AvgImageSpacingY>0.0<\/ViewPointX>0.0<\/ViewPointY>0.0<\/ViewPointDefShiftX>0.0<\/ViewPointDefShiftY>JPEG<\/CompressionMethod>75<\/CompressionQuality>0.010000<\/CompressionTolerance>Bilinear<\/SamplingMethod><\/ImageServiceProperties><\/ImageServer>",
 "allowedFields": "Name,MinPS,MaxPS,LowPS,HighPS,Tag,GroupName,ProductName,CenterX,CenterY,ZOrder,Shape_Length,Shape_Area,Variable,Dimensions,band,StdTime,StdTime_Max,time",
 "hasMultidimensions": true,
 "timeInfo": {
  "startTimeField": "StdTime",
  "endTimeField": "StdTime_Max",
  "timeExtent": [
   1267833600000,
   1749599998000
  ],
  "timeReference": null,
  "defaultTimeInterval": 1,
  "defaultTimeIntervalUnits": "esriTimeUnitsDays"
 },
 "pixelSizeX": 0.0039828597203428046,
 "pixelSizeY": 0.003982859720342804,
 "meanPixelSize": 443.369915969601,
 "datasetFormat": "AMD",
 "uncompressedSize": 8304882,
 "blockWidth": 2048,
 "blockHeight": 256,
 "compressionType": "None",
 "bandNames": [
  "Band_1"
 ],
 "allowCopy": true,
 "allowAnalysis": true,
 "itemAccess": false,
 "defaultVariable": "",
 "inspectionCapabilities": "",
 "minPixelSize": 0,
 "maxPixelSize": 0,
 "copyrightText": "",
 "serviceDataType": "esriImageServiceDataTypeScientific",
 "serviceSourceType": "esriImageServiceSourceTypeMosaicDataset",
 "objectIdField": "OBJECTID",
 "fields": [
  {
   "name": "OBJECTID",
   "type": "esriFieldTypeOID",
   "alias": "OBJECTID",
   "domain": null,
   "editable": false,
   "nullable": false
  },
  {
   "name": "Shape",
   "type": "esriFieldTypeGeometry",
   "alias": "Shape",
   "domain": null,
   "editable": true,
   "nullable": true
  },
  {
   "name": "Name",
   "type": "esriFieldTypeString",
   "alias": "Name",
   "domain": null,
   "editable": true,
   "nullable": true,
   "length": 200
  },
  {
   "name": "MinPS",
   "type": "esriFieldTypeDouble",
   "alias": "MinPS",
   "domain": null,
   "editable": true,
   "nullable": true
  },
  {
   "name": "MaxPS",
   "type": "esriFieldTypeDouble",
   "alias": "MaxPS",
   "domain": null,
   "editable": true,
   "nullable": true
  },
  {
   "name": "LowPS",
   "type": "esriFieldTypeDouble",
   "alias": "LowPS",
   "domain": null,
   "editable": true,
   "nullable": true
  },
  {
   "name": "HighPS",
   "type": "esriFieldTypeDouble",
   "alias": "HighPS",
   "domain": null,
   "editable": true,
   "nullable": true
  },
  {
   "name": "Category",
   "type": "esriFieldTypeInteger",
   "alias": "Category",
   "domain": {
    "type": "codedValue",
    "name": "MosaicCatalogItemCategoryDomain",
    "description": "Catalog item categories.",
    "codedValues": [
     {
      "name": "Unknown",
      "code": 0
     },
     {
      "name": "Primary",
      "code": 1
     },
     {
      "name": "Overview",
      "code": 2
     },
     {
      "name": "Unprocessed Overview",
      "code": 3
     },
     {
      "name": "Partial Overview",
      "code": 4
     },
     {
      "name": "Inactive",
      "code": 5
     },
     {
      "name": "Uploaded",
      "code": 253
     },
     {
      "name": "Incomplete",
      "code": 254
     },
     {
      "name": "Custom",
      "code": 255
     }
    ],
    "mergePolicy": "esriMPTDefaultValue",
    "splitPolicy": "esriSPTDefaultValue"
   },
   "editable": false,
   "nullable": true
  },
  {
   "name": "Tag",
   "type": "esriFieldTypeString",
   "alias": "Tag",
   "domain": null,
   "editable": true,
   "nullable": true,
   "length": 100
  },
  {
   "name": "GroupName",
   "type": "esriFieldTypeString",
   "alias": "GroupName",
   "domain": null,
   "editable": true,
   "nullable": true,
   "length": 100
  },
  {
   "name": "ProductName",
   "type": "esriFieldTypeString",
   "alias": "ProductName",
   "domain": null,
   "editable": true,
   "nullable": true,
   "length": 100
  },
  {
   "name": "CenterX",
   "type": "esriFieldTypeDouble",
   "alias": "CenterX",
   "domain": null,
   "editable": true,
   "nullable": true
  },
  {
   "name": "CenterY",
   "type": "esriFieldTypeDouble",
   "alias": "CenterY",
   "domain": null,
   "editable": true,
   "nullable": true
  },
  {
   "name": "ZOrder",
   "type": "esriFieldTypeInteger",
   "alias": "ZOrder",
   "domain": null,
   "editable": true,
   "nullable": true
  },
  {
   "name": "Shape_Length",
   "type": "esriFieldTypeDouble",
   "alias": "Shape_Length",
   "domain": null,
   "editable": false,
   "nullable": true
  },
  {
   "name": "Shape_Area",
   "type": "esriFieldTypeDouble",
   "alias": "Shape_Area",
   "domain": null,
   "editable": false,
   "nullable": true
  },
  {
   "name": "Variable",
   "type": "esriFieldTypeString",
   "alias": "Variable",
   "domain": null,
   "editable": true,
   "nullable": true,
   "length": 50
  },
  {
   "name": "Dimensions",
   "type": "esriFieldTypeString",
   "alias": "Dimensions",
   "domain": null,
   "editable": true,
   "nullable": true,
   "length": 50
  },
  {
   "name": "band",
   "type": "esriFieldTypeDouble",
   "alias": "band",
   "domain": null,
   "editable": true,
   "nullable": true
  },
  {
   "name": "StdTime",
   "type": "esriFieldTypeDate",
   "alias": "Standard Time",
   "domain": null,
   "editable": true,
   "nullable": true,
   "length": 8
  },
  {
   "name": "StdTime_Max",
   "type": "esriFieldTypeDate",
   "alias": "Standard Time Maximum",
   "domain": null,
   "editable": true,
   "nullable": true,
   "length": 8
  },
  {
   "name": "time",
   "type": "esriFieldTypeDouble",
   "alias": "time",
   "domain": null,
   "editable": true,
   "nullable": true
  }
 ],
 "capabilities": "Catalog,Edit,Mensuration,Pixels,Download,Image,Metadata",
 "defaultMosaicMethod": "ByAttribute",
 "allowedMosaicMethods": "ByAttribute,None,NorthWest,Center,LockRaster,Nadir,Viewpoint,Seamline",
 "sortField": "StdTime",
 "sortValue": "2000/01/01",
 "sortAscending": false,
 "mosaicOperator": "Last",
 "maxDownloadSizeLimit": 2048,
 "defaultCompressionQuality": 75,
 "defaultResamplingMethod": "Bilinear",
 "maxImageHeight": 4100,
 "maxImageWidth": 15000,
 "maxRecordCount": 1000,
 "maxDownloadImageCount": 200,
 "maxMosaicImageCount": 500,
 "allowRasterFunction": true,
 "rasterFunctionInfos": [
  {
   "name": "evi",
   "description": "A raster function template.",
   "help": ""
  },
  {
   "name": "None",
   "description": "Make a Raster or Raster Dataset into a Function Raster Dataset.",
   "help": ""
  },
  {
   "name": "ndvi",
   "description": "A raster function template.",
   "help": ""
  }
 ],
 "rasterTypeInfos": [
  {
   "name": "WCS",
   "description": "Allows a WCS (Web Coverage Service) coverage to be consumed as a raster dataset.",
   "help": ""
  },
  {
   "name": "Image Service",
   "description": "Supports ArcGIS image service",
   "help": ""
  },
  {
   "name": "WMS",
   "description": "Allows a WMS (Web Map Service) layer to be consumed as a raster dataset.",
   "help": ""
  },
  {
   "name": "Map Service",
   "description": "Supports ArcGIS map service",
   "help": ""
  },
  {
   "name": "NetCDF",
   "description": "Supports netCDF data.",
   "help": ""
  },
  {
   "name": "Raster Dataset",
   "description": "Supports all ArcGIS Raster Datasets",
   "help": ""
  },
  {
   "name": "DTED",
   "description": "Supports DTED Level 0, DTED Level 1, DTED Level 2, SRTM DTED Level 1, and SRTM DTED Level 2.",
   "help": ""
  },
  {
   "name": "NITF",
   "description": "NITF Products",
   "help": ""
  }
 ],
 "mensurationCapabilities": "",
 "hasHistograms": false,
 "hasColormap": false,
 "hasRasterAttributeTable": false,
 "minScale": 0,
 "maxScale": 0,
 "exportTilesAllowed": false,
 "supportsStatistics": true,
 "supportsAdvancedQueries": true,
 "editFieldsInfo": {
  "creationDateField": "created_date",
  "creatorField": "created_user",
  "editDateField": "last_edited_date",
  "editorField": "last_edited_user"
 },
 "ownershipBasedAccessControlForRasters": {
  "allowOthersToDelete": false,
  "allowOthersToUpdate": false
 },
 "allowComputeTiePoints": false,
 "useStandardizedQueries": true,
 "advancedQueryCapabilities": {
  "useStandardizedQueries": true,
  "supportsStatistics": true,
  "supportsOrderBy": true,
  "supportsDistinct": true,
  "supportsPagination": true
 },
 "spatialReference": {
  "wkid": 4326,
  "latestWkid": 4326
 },
 "resampling": false
}
