{
 "currentVersion": 11.5,
 "serviceDescription": "g2202_preferred/GHS_POP",
 "serviceItemId": "80fa8fabd92349dfbde75585f1f9d433",
 "name": "g2202_preferred/GHS_POP",
 "description": "",
 "extent": {
  "xmin": 959000,
  "ymin": 4000000,
  "xmax": 2959000,
  "ymax": 5000000,
  "spatialReference": {
   "wkid": 54009,
   "latestWkid": 54009
  }
 },
 "initialExtent": {
  "xmin": 959000,
  "ymin": 4000000,
  "xmax": 2959000,
  "ymax": 5000000,
  "spatialReference": {
   "wkid": 54009,
   "latestWkid": 54009
  }
 },
 "fullExtent": {
  "xmin": 959000,
  "ymin": 4000000,
  "xmax": 2959000,
  "ymax": 5000000,
  "spatialReference": {
   "wkid": 54009,
   "latestWkid": 54009
  }
 },
 "sortableFields": "",
 "bandCount": 1,
 "pixelType": "F64",
 "minValues": [
  0
 ],
 "maxValues": [
  6737.4916992188
 ],
 "meanValues": [
  1.226957444845
 ],
 "stdvValues": [
  13.217829511261
 ],
 "serviceProperties": "Center<\/MosaicMethod>First<\/MosaicOperator>true<\/SortAscending><\/LockImageID><\/TileOrderField>0<\/TileOrderBase>0.000000<\/AvgImageSpacingX>0.000000<\/AvgImageSpacingY>0.0<\/ViewPointX>0.0<\/ViewPointY>0.0<\/ViewPointDefShiftX>0.0<\/ViewPointDefShiftY>LZ77<\/CompressionMethod>75<\/CompressionQuality>0.010000<\/CompressionTolerance>Bilinear<\/SamplingMethod><\/ImageServiceProperties><\/ImageServer>",
 "allowedFields": "",
 "hasMultidimensions": false,
 "pixelSizeX": 100,
 "pixelSizeY": 100,
 "meanPixelSize": 100,
 "datasetFormat": "TIFF",
 "uncompressedSize": 1600000000,
 "blockWidth": 128,
 "blockHeight": 128,
 "compressionType": "LZW",
 "bandNames": [
  "Band_1"
 ],
 "allowCopy": true,
 "allowAnalysis": true,
 "itemAccess": false,
 "inspectionCapabilities": "",
 "noDataValue": 1.79E308,
 "noDataValues": [
  1.79E308
 ],
 "minPixelSize": 0,
 "maxPixelSize": 0,
 "copyrightText": "",
 "serviceDataType": "esriImageServiceDataTypeGeneric",
 "serviceSourceType": "esriImageServiceSourceTypeDataset",
 "objectIdField": "",
 "fields": [],
 "capabilities": "Image,Metadata,Mensuration",
 "defaultMosaicMethod": "Center",
 "allowedMosaicMethods": "",
 "sortField": "",
 "sortValue": null,
 "sortAscending": true,
 "mosaicOperator": "First",
 "defaultCompressionQuality": 75,
 "defaultResamplingMethod": "Bilinear",
 "maxImageHeight": 4100,
 "maxImageWidth": 15000,
 "allowRasterFunction": true,
 "rasterFunctionInfos": [
  {
   "name": "None",
   "description": "",
   "help": ""
  }
 ],
 "rasterTypeInfos": [
  {
   "name": "Raster Dataset",
   "description": "Supports all ArcGIS Raster Datasets",
   "help": ""
  }
 ],
 "mensurationCapabilities": "Basic",
 "hasHistograms": true,
 "hasColormap": false,
 "hasRasterAttributeTable": false,
 "minScale": 0,
 "maxScale": 0,
 "exportTilesAllowed": false,
 "supportsStatistics": false,
 "supportsAdvancedQueries": false,
 "editFieldsInfo": null,
 "ownershipBasedAccessControlForRasters": null,
 "allowComputeTiePoints": false,
 "useStandardizedQueries": true,
 "advancedQueryCapabilities": {
  "useStandardizedQueries": true,
  "supportsStatistics": false,
  "supportsOrderBy": false,
  "supportsDistinct": false,
  "supportsPagination": false
 },
 "spatialReference": {
  "wkid": 54009,
  "latestWkid": 54009
 }
}
